BEGIN:VCALENDAR
VERSION:2.0
PRODID:-//hacksw/handcal//NONSGML v1.0//EN
BEGIN:VEVENT
SUMMARY:BEURSAULT Decouverte - AVIGNON
UID:2a64c02b-92fc-4b19-b7fa-d79091ba922e
DTSTART:20260417T220000Z
DTEND:20260418T220000Z
LOCATION:Localisation   
CATEGORIES:Sportif
STATUS:
URL;VALUE=URI:https://www.tirarcvaucluse.com/evenements/2026/04/18/beursault-decouverte-avignon-2440612
END:VEVENT
END:VCALENDAR
