BEGIN:VCALENDAR
VERSION:2.0
PRODID:-//hacksw/handcal//NONSGML v1.0//EN
BEGIN:VEVENT
SUMMARY:Special Jeunes TAE - AVIGNON
UID:24907dd0-d883-464b-a37a-ae49816d828d
DTSTART:20260424T220000Z
DTEND:20260425T220000Z
LOCATION:Localisation   
CATEGORIES:Sportif
STATUS:
URL;VALUE=URI:https://www.tirarcvaucluse.com/evenements/2026/04/25/special-jeunes-tae-avignon-2440618
END:VEVENT
END:VCALENDAR
